BEGIN:VCALENDAR
VERSION:2.0
PRODID:-//Idaho Division of Human Resources - ECPv6.15.16//NONSGML v1.0//EN
CALSCALE:GREGORIAN
METHOD:PUBLISH
X-WR-CALNAME:Idaho Division of Human Resources
X-ORIGINAL-URL:https://dhr.idaho.gov
X-WR-CALDESC:Events for Idaho Division of Human Resources
REFRESH-INTERVAL;VALUE=DURATION:PT1H
X-Robots-Tag:noindex
X-PUBLISHED-TTL:PT1H
BEGIN:VTIMEZONE
TZID:America/Boise
BEGIN:DAYLIGHT
TZOFFSETFROM:-0700
TZOFFSETTO:-0600
TZNAME:MDT
DTSTART:20200308T090000
END:DAYLIGHT
BEGIN:STANDARD
TZOFFSETFROM:-0600
TZOFFSETTO:-0700
TZNAME:MST
DTSTART:20201101T080000
END:STANDARD
BEGIN:DAYLIGHT
TZOFFSETFROM:-0700
TZOFFSETTO:-0600
TZNAME:MDT
DTSTART:20210314T090000
END:DAYLIGHT
BEGIN:STANDARD
TZOFFSETFROM:-0600
TZOFFSETTO:-0700
TZNAME:MST
DTSTART:20211107T080000
END:STANDARD
BEGIN:DAYLIGHT
TZOFFSETFROM:-0700
TZOFFSETTO:-0600
TZNAME:MDT
DTSTART:20220313T090000
END:DAYLIGHT
BEGIN:STANDARD
TZOFFSETFROM:-0600
TZOFFSETTO:-0700
TZNAME:MST
DTSTART:20221106T080000
END:STANDARD
END:VTIMEZONE
BEGIN:VEVENT
DTSTART;TZID=America/Boise:20211021T100000
DTEND;TZID=America/Boise:20211021T110000
DTSTAMP:20260425T193053
CREATED:20211012T222036Z
LAST-MODIFIED:20211012T222037Z
UID:7859-1634810400-1634814000@dhr.idaho.gov
SUMMARY:Micro-Learning Module: Documentation
DESCRIPTION:
URL:https://dhr.idaho.gov/event/micro-learning-module-documentation-4/
END:VEVENT
BEGIN:VEVENT
DTSTART;TZID=America/Boise:20211021T140000
DTEND;TZID=America/Boise:20211021T150000
DTSTAMP:20260425T193053
CREATED:20211012T223446Z
LAST-MODIFIED:20211012T223447Z
UID:7898-1634824800-1634828400@dhr.idaho.gov
SUMMARY:Micro-Learning Module: Performance Evaluations
DESCRIPTION:
URL:https://dhr.idaho.gov/event/micro-learning-module-performance-evaluations-3/
END:VEVENT
END:VCALENDAR