BEGIN:VCALENDAR
VERSION:2.0
PRODID:-//Idaho Division of Human Resources - ECPv6.15.16//NONSGML v1.0//EN
CALSCALE:GREGORIAN
METHOD:PUBLISH
X-WR-CALNAME:Idaho Division of Human Resources
X-ORIGINAL-URL:https://dhr.idaho.gov
X-WR-CALDESC:Events for Idaho Division of Human Resources
REFRESH-INTERVAL;VALUE=DURATION:PT1H
X-Robots-Tag:noindex
X-PUBLISHED-TTL:PT1H
BEGIN:VTIMEZONE
TZID:America/Boise
BEGIN:DAYLIGHT
TZOFFSETFROM:-0700
TZOFFSETTO:-0600
TZNAME:MDT
DTSTART:20200308T090000
END:DAYLIGHT
BEGIN:STANDARD
TZOFFSETFROM:-0600
TZOFFSETTO:-0700
TZNAME:MST
DTSTART:20201101T080000
END:STANDARD
BEGIN:DAYLIGHT
TZOFFSETFROM:-0700
TZOFFSETTO:-0600
TZNAME:MDT
DTSTART:20210314T090000
END:DAYLIGHT
BEGIN:STANDARD
TZOFFSETFROM:-0600
TZOFFSETTO:-0700
TZNAME:MST
DTSTART:20211107T080000
END:STANDARD
BEGIN:DAYLIGHT
TZOFFSETFROM:-0700
TZOFFSETTO:-0600
TZNAME:MDT
DTSTART:20220313T090000
END:DAYLIGHT
BEGIN:STANDARD
TZOFFSETFROM:-0600
TZOFFSETTO:-0700
TZNAME:MST
DTSTART:20221106T080000
END:STANDARD
END:VTIMEZONE
BEGIN:VEVENT
DTSTART;TZID=America/Boise:20211123T090000
DTEND;TZID=America/Boise:20211123T100000
DTSTAMP:20260425T145026
CREATED:20211012T213257Z
LAST-MODIFIED:20211012T213259Z
UID:7804-1637658000-1637661600@dhr.idaho.gov
SUMMARY:Micro-Learning Module: Coaching
DESCRIPTION:
URL:https://dhr.idaho.gov/event/micro-learning-module-coaching-6/
END:VEVENT
BEGIN:VEVENT
DTSTART;TZID=America/Boise:20211123T110000
DTEND;TZID=America/Boise:20211123T120000
DTSTAMP:20260425T145026
CREATED:20211012T214050Z
LAST-MODIFIED:20211012T214051Z
UID:7823-1637665200-1637668800@dhr.idaho.gov
SUMMARY:Micro-Learning Module: Providing Feedback
DESCRIPTION:
URL:https://dhr.idaho.gov/event/micro-learning-module-providing-feedback-6/
END:VEVENT
BEGIN:VEVENT
DTSTART;TZID=America/Boise:20211123T130000
DTEND;TZID=America/Boise:20211123T140000
DTSTAMP:20260425T145026
CREATED:20211012T211312Z
LAST-MODIFIED:20211019T164351Z
UID:7765-1637672400-1637676000@dhr.idaho.gov
SUMMARY:Micro-Learning Module: Emotional Intelligence
DESCRIPTION:
URL:https://dhr.idaho.gov/event/micro-learning-module-emotional-intelligence-for-remote-teams-5/
END:VEVENT
END:VCALENDAR