BEGIN:VCALENDAR
VERSION:2.0
PRODID:-//Division of Human Resources - ECPv5.8.0//NONSGML v1.0//EN
CALSCALE:GREGORIAN
METHOD:PUBLISH
X-WR-CALNAME:Division of Human Resources
X-ORIGINAL-URL:https://dhr.idaho.gov
X-WR-CALDESC:Events for Division of Human Resources
BEGIN:VTIMEZONE
TZID:America/Boise
BEGIN:DAYLIGHT
TZOFFSETFROM:-0700
TZOFFSETTO:-0600
TZNAME:MDT
DTSTART:20210314T090000
END:DAYLIGHT
BEGIN:STANDARD
TZOFFSETFROM:-0600
TZOFFSETTO:-0700
TZNAME:MST
DTSTART:20211107T080000
END:STANDARD
BEGIN:DAYLIGHT
TZOFFSETFROM:-0700
TZOFFSETTO:-0600
TZNAME:MDT
DTSTART:20220313T090000
END:DAYLIGHT
BEGIN:STANDARD
TZOFFSETFROM:-0600
TZOFFSETTO:-0700
TZNAME:MST
DTSTART:20221106T080000
END:STANDARD
END:VTIMEZONE
BEGIN:VEVENT
DTSTART;TZID=America/Boise:20210929T083000
DTEND;TZID=America/Boise:20210929T170000
DTSTAMP:20210715T235212
CREATED:20210603T200616Z
LAST-MODIFIED:20210603T200900Z
UID:6523-1632904200-1632934800@dhr.idaho.gov
SUMMARY:Crucial Conversations (Online)
DESCRIPTION:
URL:https://dhr.idaho.gov/event/crucial-conversations-online/
CATEGORIES:Crucial Conversations
END:VEVENT
BEGIN:VEVENT
DTSTART;TZID=America/Boise:20210930T083000
DTEND;TZID=America/Boise:20210930T170000
DTSTAMP:20210715T235212
CREATED:20210603T200642Z
LAST-MODIFIED:20210603T200903Z
UID:6525-1632990600-1633021200@dhr.idaho.gov
SUMMARY:Crucial Conversations (Online)
DESCRIPTION:
URL:https://dhr.idaho.gov/event/crucial-conversations-online-2/
CATEGORIES:Crucial Conversations
END:VEVENT
BEGIN:VEVENT
DTSTART;TZID=America/Boise:20211201T083000
DTEND;TZID=America/Boise:20211201T170000
DTSTAMP:20210715T235212
CREATED:20210603T200716Z
LAST-MODIFIED:20210603T200849Z
UID:6527-1638347400-1638378000@dhr.idaho.gov
SUMMARY:Crucial Conversations (Boise)
DESCRIPTION:
URL:https://dhr.idaho.gov/event/crucial-conversations-boise/
CATEGORIES:Crucial Conversations
END:VEVENT
BEGIN:VEVENT
DTSTART;TZID=America/Boise:20211202T083000
DTEND;TZID=America/Boise:20211202T170000
DTSTAMP:20210715T235212
CREATED:20210603T200742Z
LAST-MODIFIED:20210603T200853Z
UID:6529-1638433800-1638464400@dhr.idaho.gov
SUMMARY:Crucial Conversations (Boise)
DESCRIPTION:
URL:https://dhr.idaho.gov/event/crucial-conversations-boise-2/
CATEGORIES:Crucial Conversations
END:VEVENT
BEGIN:VEVENT
DTSTART;TZID=America/Boise:20220126T083000
DTEND;TZID=America/Boise:20220126T170000
DTSTAMP:20210715T235212
CREATED:20210603T200815Z
LAST-MODIFIED:20210603T200816Z
UID:6531-1643185800-1643216400@dhr.idaho.gov
SUMMARY:Crucial Conversations (Boise)
DESCRIPTION:
URL:https://dhr.idaho.gov/event/crucial-conversations-boise-3/
CATEGORIES:Crucial Conversations
END:VEVENT
BEGIN:VEVENT
DTSTART;TZID=America/Boise:20220127T083000
DTEND;TZID=America/Boise:20220127T170000
DTSTAMP:20210715T235212
CREATED:20210603T200923Z
LAST-MODIFIED:20210603T200923Z
UID:6533-1643272200-1643302800@dhr.idaho.gov
SUMMARY:Crucial Conversations (Boise)
DESCRIPTION:
URL:https://dhr.idaho.gov/event/crucial-conversations-boise-4/
CATEGORIES:Crucial Conversations
END:VEVENT
BEGIN:VEVENT
DTSTART;TZID=America/Boise:20220301T083000
DTEND;TZID=America/Boise:20220301T170000
DTSTAMP:20210715T235212
CREATED:20210603T200952Z
LAST-MODIFIED:20210603T200959Z
UID:6535-1646123400-1646154000@dhr.idaho.gov
SUMMARY:Crucial Conversations (Boise)
DESCRIPTION:
URL:https://dhr.idaho.gov/event/crucial-conversations-boise-5/
CATEGORIES:Crucial Conversations
END:VEVENT
BEGIN:VEVENT
DTSTART;TZID=America/Boise:20220302T083000
DTEND;TZID=America/Boise:20220302T170000
DTSTAMP:20210715T235212
CREATED:20210603T201021Z
LAST-MODIFIED:20210603T201022Z
UID:6537-1646209800-1646240400@dhr.idaho.gov
SUMMARY:Crucial Conversations (Boise)
DESCRIPTION:
URL:https://dhr.idaho.gov/event/crucial-conversations-boise-6/
CATEGORIES:Crucial Conversations
END:VEVENT
BEGIN:VEVENT
DTSTART;TZID=America/Boise:20220405T083000
DTEND;TZID=America/Boise:20220405T170000
DTSTAMP:20210715T235212
CREATED:20210603T201045Z
LAST-MODIFIED:20210603T201046Z
UID:6539-1649147400-1649178000@dhr.idaho.gov
SUMMARY:Crucial Conversations (Boise)
DESCRIPTION:
URL:https://dhr.idaho.gov/event/crucial-conversations-boise-7/
CATEGORIES:Crucial Conversations
END:VEVENT
BEGIN:VEVENT
DTSTART;TZID=America/Boise:20220406T083000
DTEND;TZID=America/Boise:20220406T170000
DTSTAMP:20210715T235212
CREATED:20210603T201108Z
LAST-MODIFIED:20210603T201108Z
UID:6541-1649233800-1649264400@dhr.idaho.gov
SUMMARY:Crucial Conversations (Boise)
DESCRIPTION:
URL:https://dhr.idaho.gov/event/crucial-conversations-boise-8/
CATEGORIES:Crucial Conversations
END:VEVENT
BEGIN:VEVENT
DTSTART;TZID=America/Boise:20220601T083000
DTEND;TZID=America/Boise:20220601T170000
DTSTAMP:20210715T235212
CREATED:20210603T201139Z
LAST-MODIFIED:20210603T201139Z
UID:6543-1654072200-1654102800@dhr.idaho.gov
SUMMARY:Crucial Conversations (Boise)
DESCRIPTION:
URL:https://dhr.idaho.gov/event/crucial-conversations-boise-9/
CATEGORIES:Crucial Conversations
END:VEVENT
BEGIN:VEVENT
DTSTART;TZID=America/Boise:20220602T083000
DTEND;TZID=America/Boise:20220602T170000
DTSTAMP:20210715T235212
CREATED:20210603T201158Z
LAST-MODIFIED:20210603T201159Z
UID:6545-1654158600-1654189200@dhr.idaho.gov
SUMMARY:Crucial Conversations (Boise)
DESCRIPTION:
URL:https://dhr.idaho.gov/event/crucial-conversations-boise-10/
CATEGORIES:Crucial Conversations
END:VEVENT
END:VCALENDAR