BEGIN:VCALENDAR
VERSION:2.0
PRODID:-//Idaho Division of Human Resources - ECPv6.15.16//NONSGML v1.0//EN
CALSCALE:GREGORIAN
METHOD:PUBLISH
X-ORIGINAL-URL:https://dhr.idaho.gov
X-WR-CALDESC:Events for Idaho Division of Human Resources
REFRESH-INTERVAL;VALUE=DURATION:PT1H
X-Robots-Tag:noindex
X-PUBLISHED-TTL:PT1H
BEGIN:VTIMEZONE
TZID:America/Boise
BEGIN:DAYLIGHT
TZOFFSETFROM:-0700
TZOFFSETTO:-0600
TZNAME:MDT
DTSTART:20200308T090000
END:DAYLIGHT
BEGIN:STANDARD
TZOFFSETFROM:-0600
TZOFFSETTO:-0700
TZNAME:MST
DTSTART:20201101T080000
END:STANDARD
BEGIN:DAYLIGHT
TZOFFSETFROM:-0700
TZOFFSETTO:-0600
TZNAME:MDT
DTSTART:20210314T090000
END:DAYLIGHT
BEGIN:STANDARD
TZOFFSETFROM:-0600
TZOFFSETTO:-0700
TZNAME:MST
DTSTART:20211107T080000
END:STANDARD
BEGIN:DAYLIGHT
TZOFFSETFROM:-0700
TZOFFSETTO:-0600
TZNAME:MDT
DTSTART:20220313T090000
END:DAYLIGHT
BEGIN:STANDARD
TZOFFSETFROM:-0600
TZOFFSETTO:-0700
TZNAME:MST
DTSTART:20221106T080000
END:STANDARD
END:VTIMEZONE
BEGIN:VEVENT
DTSTART;TZID=America/Boise:20210602T133000
DTEND;TZID=America/Boise:20210602T143000
DTSTAMP:20260425T191820
CREATED:20210107T180046Z
LAST-MODIFIED:20210107T180047Z
UID:4613-1622640600-1622644200@dhr.idaho.gov
SUMMARY:Micro-Learning Module: Communication for Remote Teams
DESCRIPTION:
URL:https://dhr.idaho.gov/event/micro-learning-module-communication-for-remote-teams-4/
CATEGORIES:Micro-Learning Modules
END:VEVENT
BEGIN:VEVENT
DTSTART;TZID=America/Boise:20210604T110000
DTEND;TZID=America/Boise:20210604T120000
DTSTAMP:20260425T191820
CREATED:20210106T173530Z
LAST-MODIFIED:20210106T173531Z
UID:4421-1622804400-1622808000@dhr.idaho.gov
SUMMARY:Micro-Learning Module: Motivation
DESCRIPTION:
URL:https://dhr.idaho.gov/event/micro-learning-module-motivation-6/
CATEGORIES:Micro-Learning Modules
END:VEVENT
BEGIN:VEVENT
DTSTART;TZID=America/Boise:20210609T093000
DTEND;TZID=America/Boise:20210609T103000
DTSTAMP:20260425T191820
CREATED:20210106T175402Z
LAST-MODIFIED:20210106T175403Z
UID:4466-1623231000-1623234600@dhr.idaho.gov
SUMMARY:Micro-Learning Module: Providing Feedback
DESCRIPTION:
URL:https://dhr.idaho.gov/event/micro-learning-module-providing-feedback-5/
CATEGORIES:Micro-Learning Modules
END:VEVENT
BEGIN:VEVENT
DTSTART;TZID=America/Boise:20210609T133000
DTEND;TZID=America/Boise:20210609T143000
DTSTAMP:20260425T191820
CREATED:20210106T175931Z
LAST-MODIFIED:20210603T210755Z
UID:4479-1623245400-1623249000@dhr.idaho.gov
SUMMARY:Micro-Learning Module: Coaching
DESCRIPTION:
URL:https://dhr.idaho.gov/event/micro-learning-module-coaching-3/
CATEGORIES:Micro-Learning Modules
END:VEVENT
BEGIN:VEVENT
DTSTART;TZID=America/Boise:20210610T093000
DTEND;TZID=America/Boise:20210610T103000
DTSTAMP:20260425T191820
CREATED:20210406T195553Z
LAST-MODIFIED:20210406T195554Z
UID:4605-1623317400-1623321000@dhr.idaho.gov
SUMMARY:Micro-Learning Module: Emotional Intelligence for Remote Teams
DESCRIPTION:
URL:https://dhr.idaho.gov/event/micro-learning-module-emotional-intelligence-for-remote-teams-7/
CATEGORIES:Micro-Learning Modules
END:VEVENT
BEGIN:VEVENT
DTSTART;TZID=America/Boise:20210610T140000
DTEND;TZID=America/Boise:20210610T150000
DTSTAMP:20260425T191820
CREATED:20210106T182219Z
LAST-MODIFIED:20210106T182220Z
UID:4503-1623333600-1623337200@dhr.idaho.gov
SUMMARY:Micro-Learning Module: Best Practice Discussion Forum
DESCRIPTION:
URL:https://dhr.idaho.gov/event/micro-learning-module-best-practice-discussion-forum-5/
CATEGORIES:Micro-Learning Modules
END:VEVENT
BEGIN:VEVENT
DTSTART;TZID=America/Boise:20210615T140000
DTEND;TZID=America/Boise:20210615T150000
DTSTAMP:20260425T191820
CREATED:20210106T174922Z
LAST-MODIFIED:20210106T174922Z
UID:4456-1623765600-1623769200@dhr.idaho.gov
SUMMARY:Micro-Learning Module: Documentation
DESCRIPTION:
URL:https://dhr.idaho.gov/event/micro-learning-module-documentation-6/
CATEGORIES:Micro-Learning Modules
END:VEVENT
BEGIN:VEVENT
DTSTART;TZID=America/Boise:20210622T093000
DTEND;TZID=America/Boise:20210622T103000
DTSTAMP:20260425T191820
CREATED:20210106T173958Z
LAST-MODIFIED:20210106T173958Z
UID:4432-1624354200-1624357800@dhr.idaho.gov
SUMMARY:Micro-Learning Module: Performance Evaluations
DESCRIPTION:
URL:https://dhr.idaho.gov/event/micro-learning-module-performance-evaluations-5/
CATEGORIES:Micro-Learning Modules
END:VEVENT
BEGIN:VEVENT
DTSTART;TZID=America/Boise:20210623T150000
DTEND;TZID=America/Boise:20210623T160000
DTSTAMP:20260425T191820
CREATED:20210106T180326Z
LAST-MODIFIED:20210106T180326Z
UID:4491-1624460400-1624464000@dhr.idaho.gov
SUMMARY:Micro-Learning Module: Setting Expectations
DESCRIPTION:
URL:https://dhr.idaho.gov/event/micro-learning-module-setting-expectations-6/
CATEGORIES:Micro-Learning Modules
END:VEVENT
BEGIN:VEVENT
DTSTART;TZID=America/Boise:20210624T110000
DTEND;TZID=America/Boise:20210624T120000
DTSTAMP:20260425T191820
CREATED:20210107T175752Z
LAST-MODIFIED:20210107T175753Z
UID:4603-1624532400-1624536000@dhr.idaho.gov
SUMMARY:Micro-Learning Module: Accountability for Remote Teams
DESCRIPTION:
URL:https://dhr.idaho.gov/event/micro-learning-module-accountability-for-remote-teams-5/
CATEGORIES:Micro-Learning Modules
END:VEVENT
BEGIN:VEVENT
DTSTART;TZID=America/Boise:20210630T100000
DTEND;TZID=America/Boise:20210630T110000
DTSTAMP:20260425T191820
CREATED:20210106T174456Z
LAST-MODIFIED:20210126T233322Z
UID:4442-1625047200-1625050800@dhr.idaho.gov
SUMMARY:Micro-Learning Module: Progressive Discipline
DESCRIPTION:
URL:https://dhr.idaho.gov/event/micro-learning-module-progressive-discipline-5/
CATEGORIES:Micro-Learning Modules
END:VEVENT
END:VCALENDAR