BEGIN:VCALENDAR
VERSION:2.0
PRODID:-//Division of Human Resources - ECPv5.8.1//NONSGML v1.0//EN
CALSCALE:GREGORIAN
METHOD:PUBLISH
X-WR-CALNAME:Division of Human Resources
X-ORIGINAL-URL:https://dhr.idaho.gov
X-WR-CALDESC:Events for Division of Human Resources
BEGIN:VTIMEZONE
TZID:America/Boise
BEGIN:DAYLIGHT
TZOFFSETFROM:-0700
TZOFFSETTO:-0600
TZNAME:MDT
DTSTART:20210314T090000
END:DAYLIGHT
BEGIN:STANDARD
TZOFFSETFROM:-0600
TZOFFSETTO:-0700
TZNAME:MST
DTSTART:20211107T080000
END:STANDARD
END:VTIMEZONE
BEGIN:VEVENT
DTSTART;TZID=America/Boise:20210712T090000
DTEND;TZID=America/Boise:20210712T100000
DTSTAMP:20210730T085353
CREATED:20210603T211328Z
LAST-MODIFIED:20210603T211329Z
UID:6624-1626080400-1626084000@dhr.idaho.gov
SUMMARY:Micro-Learning Module: Motivation
DESCRIPTION:
URL:https://dhr.idaho.gov/event/micro-learning-module-motivation/
CATEGORIES:Micro-Learning Modules
END:VEVENT
BEGIN:VEVENT
DTSTART;TZID=America/Boise:20210715T090000
DTEND;TZID=America/Boise:20210715T100000
DTSTAMP:20210730T085353
CREATED:20210603T210942Z
LAST-MODIFIED:20210603T210943Z
UID:6617-1626339600-1626343200@dhr.idaho.gov
SUMMARY:Micro-Learning Module: Providing Feedback
DESCRIPTION:
URL:https://dhr.idaho.gov/event/micro-learning-module-providing-feedback/
CATEGORIES:Micro-Learning Modules
END:VEVENT
BEGIN:VEVENT
DTSTART;TZID=America/Boise:20210715T103000
DTEND;TZID=America/Boise:20210715T113000
DTSTAMP:20210730T085353
CREATED:20210603T210720Z
LAST-MODIFIED:20210603T210721Z
UID:6611-1626345000-1626348600@dhr.idaho.gov
SUMMARY:Micro-Learning Module: Coaching
DESCRIPTION:
URL:https://dhr.idaho.gov/event/micro-learning-module-coaching/
CATEGORIES:Micro-Learning Modules
END:VEVENT
BEGIN:VEVENT
DTSTART;TZID=America/Boise:20210716T093000
DTEND;TZID=America/Boise:20210716T103000
DTSTAMP:20210730T085353
CREATED:20210603T210029Z
LAST-MODIFIED:20210603T210029Z
UID:6599-1626427800-1626431400@dhr.idaho.gov
SUMMARY:Micro-Learning Module: Emotional Intelligence for Remote Teams
DESCRIPTION:
URL:https://dhr.idaho.gov/event/micro-learning-module-emotional-intelligence-for-remote-teams/
CATEGORIES:Micro-Learning Modules
END:VEVENT
BEGIN:VEVENT
DTSTART;TZID=America/Boise:20210716T140000
DTEND;TZID=America/Boise:20210716T150000
DTSTAMP:20210730T085353
CREATED:20210603T211512Z
LAST-MODIFIED:20210603T211513Z
UID:6630-1626444000-1626447600@dhr.idaho.gov
SUMMARY:Micro-Learning Module: Documentation
DESCRIPTION:
URL:https://dhr.idaho.gov/event/micro-learning-module-documentation/
CATEGORIES:Micro-Learning Modules
END:VEVENT
BEGIN:VEVENT
DTSTART;TZID=America/Boise:20210803T100000
DTEND;TZID=America/Boise:20210803T110000
DTSTAMP:20210730T085353
CREATED:20210603T210109Z
LAST-MODIFIED:20210603T210110Z
UID:6601-1627984800-1627988400@dhr.idaho.gov
SUMMARY:Micro-Learning Module: Emotional Intelligence for Remote Teams
DESCRIPTION:
URL:https://dhr.idaho.gov/event/micro-learning-module-emotional-intelligence-for-remote-teams-2/
CATEGORIES:Micro-Learning Modules
END:VEVENT
BEGIN:VEVENT
DTSTART;TZID=America/Boise:20210803T130000
DTEND;TZID=America/Boise:20210803T140000
DTSTAMP:20210730T085353
CREATED:20210603T211021Z
LAST-MODIFIED:20210603T211022Z
UID:6619-1627995600-1627999200@dhr.idaho.gov
SUMMARY:Micro-Learning Module: Providing Feedback
DESCRIPTION:
URL:https://dhr.idaho.gov/event/micro-learning-module-providing-feedback-2/
CATEGORIES:Micro-Learning Modules
END:VEVENT
BEGIN:VEVENT
DTSTART;TZID=America/Boise:20210803T143000
DTEND;TZID=America/Boise:20210803T153000
DTSTAMP:20210730T085353
CREATED:20210603T210828Z
LAST-MODIFIED:20210603T210828Z
UID:6613-1628001000-1628004600@dhr.idaho.gov
SUMMARY:Micro-Learning Module: Coaching
DESCRIPTION:
URL:https://dhr.idaho.gov/event/micro-learning-module-coaching-2/
CATEGORIES:Micro-Learning Modules
END:VEVENT
BEGIN:VEVENT
DTSTART;TZID=America/Boise:20210803T150000
DTEND;TZID=America/Boise:20210803T160000
DTSTAMP:20210730T085353
CREATED:20210603T211405Z
LAST-MODIFIED:20210603T211405Z
UID:6626-1628002800-1628006400@dhr.idaho.gov
SUMMARY:Micro-Learning Module: Motivation
DESCRIPTION:
URL:https://dhr.idaho.gov/event/micro-learning-module-motivation-2/
CATEGORIES:Micro-Learning Modules
END:VEVENT
BEGIN:VEVENT
DTSTART;TZID=America/Boise:20210805T140000
DTEND;TZID=America/Boise:20210805T150000
DTSTAMP:20210730T085353
CREATED:20210603T205852Z
LAST-MODIFIED:20210603T205852Z
UID:6593-1628172000-1628175600@dhr.idaho.gov
SUMMARY:Micro-Learning Module: Accountability for Remote Teams
DESCRIPTION:
URL:https://dhr.idaho.gov/event/micro-learning-module-accountability-for-remote-teams/
CATEGORIES:Micro-Learning Modules
END:VEVENT
BEGIN:VEVENT
DTSTART;TZID=America/Boise:20210806T093000
DTEND;TZID=America/Boise:20210806T103000
DTSTAMP:20210730T085353
CREATED:20210603T210540Z
LAST-MODIFIED:20210603T210541Z
UID:6607-1628242200-1628245800@dhr.idaho.gov
SUMMARY:Micro-Learning Module: Setting Expectations
DESCRIPTION:
URL:https://dhr.idaho.gov/event/micro-learning-module-setting-expectations-2/
CATEGORIES:Micro-Learning Modules
END:VEVENT
BEGIN:VEVENT
DTSTART;TZID=America/Boise:20210813T103000
DTEND;TZID=America/Boise:20210813T113000
DTSTAMP:20210730T085353
CREATED:20210603T205728Z
LAST-MODIFIED:20210603T205729Z
UID:6589-1628850600-1628854200@dhr.idaho.gov
SUMMARY:Micro-Learning Module: Communication for Remote Teams
DESCRIPTION:
URL:https://dhr.idaho.gov/event/micro-learning-module-communication-for-remote-teams/
CATEGORIES:Micro-Learning Modules
END:VEVENT
BEGIN:VEVENT
DTSTART;TZID=America/Boise:20210820T140000
DTEND;TZID=America/Boise:20210820T150000
DTSTAMP:20210730T085353
CREATED:20210603T211827Z
LAST-MODIFIED:20210603T211828Z
UID:6639-1629468000-1629471600@dhr.idaho.gov
SUMMARY:Micro-Learning Module: Performance Evaluations
DESCRIPTION:
URL:https://dhr.idaho.gov/event/micro-learning-module-performance-evaluations/
CATEGORIES:Micro-Learning Modules
END:VEVENT
BEGIN:VEVENT
DTSTART;TZID=America/Boise:20210827T103000
DTEND;TZID=America/Boise:20210827T113000
DTSTAMP:20210730T085353
CREATED:20210603T211704Z
LAST-MODIFIED:20210603T211704Z
UID:4473-1630060200-1630063800@dhr.idaho.gov
SUMMARY:Micro-Learning Module: Progressive Discipline
DESCRIPTION:
URL:https://dhr.idaho.gov/event/micro-learning-module-progressive-discipline/
CATEGORIES:Micro-Learning Modules
END:VEVENT
BEGIN:VEVENT
DTSTART;TZID=America/Boise:20210830T090000
DTEND;TZID=America/Boise:20210830T100000
DTSTAMP:20210730T085353
CREATED:20210603T211551Z
LAST-MODIFIED:20210603T211552Z
UID:6632-1630314000-1630317600@dhr.idaho.gov
SUMMARY:Micro-Learning Module: Documentation
DESCRIPTION:
URL:https://dhr.idaho.gov/event/micro-learning-module-documentation-2/
CATEGORIES:Micro-Learning Modules
END:VEVENT
BEGIN:VEVENT
DTSTART;TZID=America/Boise:20210901T140000
DTEND;TZID=America/Boise:20210901T150000
DTSTAMP:20210730T085353
CREATED:20210603T211439Z
LAST-MODIFIED:20210603T211440Z
UID:6628-1630504800-1630508400@dhr.idaho.gov
SUMMARY:Micro-Learning Module: Motivation
DESCRIPTION:
URL:https://dhr.idaho.gov/event/micro-learning-module-motivation-3/
CATEGORIES:Micro-Learning Modules
END:VEVENT
BEGIN:VEVENT
DTSTART;TZID=America/Boise:20210902T090000
DTEND;TZID=America/Boise:20210902T100000
DTSTAMP:20210730T085353
CREATED:20210603T210913Z
LAST-MODIFIED:20210603T210913Z
UID:6615-1630573200-1630576800@dhr.idaho.gov
SUMMARY:Micro-Learning Module: Coaching
DESCRIPTION:
URL:https://dhr.idaho.gov/event/micro-learning-module-coaching-4/
CATEGORIES:Micro-Learning Modules
END:VEVENT
BEGIN:VEVENT
DTSTART;TZID=America/Boise:20210902T103000
DTEND;TZID=America/Boise:20210902T113000
DTSTAMP:20210730T085353
CREATED:20210603T211048Z
LAST-MODIFIED:20210603T211245Z
UID:6621-1630578600-1630582200@dhr.idaho.gov
SUMMARY:Micro-Learning Module: Providing Feedback
DESCRIPTION:
URL:https://dhr.idaho.gov/event/micro-learning-module-providing-feedback-3/
CATEGORIES:Micro-Learning Modules
END:VEVENT
BEGIN:VEVENT
DTSTART;TZID=America/Boise:20210903T103000
DTEND;TZID=America/Boise:20210903T113000
DTSTAMP:20210730T085353
CREATED:20210603T211908Z
LAST-MODIFIED:20210603T211908Z
UID:6641-1630665000-1630668600@dhr.idaho.gov
SUMMARY:Micro-Learning Module: Performance Evaluations
DESCRIPTION:
URL:https://dhr.idaho.gov/event/micro-learning-module-performance-evaluations-2/
CATEGORIES:Micro-Learning Modules
END:VEVENT
BEGIN:VEVENT
DTSTART;TZID=America/Boise:20210909T140000
DTEND;TZID=America/Boise:20210909T150000
DTSTAMP:20210730T085353
CREATED:20210603T211737Z
LAST-MODIFIED:20210603T211738Z
UID:6637-1631196000-1631199600@dhr.idaho.gov
SUMMARY:Micro-Learning Module: Progressive Discipline
DESCRIPTION:
URL:https://dhr.idaho.gov/event/micro-learning-module-progressive-discipline-2/
CATEGORIES:Micro-Learning Modules
END:VEVENT
BEGIN:VEVENT
DTSTART;TZID=America/Boise:20210910T140000
DTEND;TZID=America/Boise:20210910T150000
DTSTAMP:20210730T085353
CREATED:20210603T205807Z
LAST-MODIFIED:20210603T205808Z
UID:6591-1631282400-1631286000@dhr.idaho.gov
SUMMARY:Micro-Learning Module: Communication for Remote Teams
DESCRIPTION:
URL:https://dhr.idaho.gov/event/micro-learning-module-communication-for-remote-teams-2/
CATEGORIES:Micro-Learning Modules
END:VEVENT
BEGIN:VEVENT
DTSTART;TZID=America/Boise:20210913T133000
DTEND;TZID=America/Boise:20210913T143000
DTSTAMP:20210730T085353
CREATED:20210603T210608Z
LAST-MODIFIED:20210603T210609Z
UID:6609-1631539800-1631543400@dhr.idaho.gov
SUMMARY:Micro-Learning Module: Setting Expectations
DESCRIPTION:
URL:https://dhr.idaho.gov/event/micro-learning-module-setting-expectations-3/
CATEGORIES:Micro-Learning Modules
END:VEVENT
BEGIN:VEVENT
DTSTART;TZID=America/Boise:20210920T140000
DTEND;TZID=America/Boise:20210920T150000
DTSTAMP:20210730T085353
CREATED:20210603T210144Z
LAST-MODIFIED:20210603T210145Z
UID:6603-1632146400-1632150000@dhr.idaho.gov
SUMMARY:Micro-Learning Module: Emotional Intelligence for Remote Teams
DESCRIPTION:
URL:https://dhr.idaho.gov/event/micro-learning-module-emotional-intelligence-for-remote-teams-3/
CATEGORIES:Micro-Learning Modules
END:VEVENT
BEGIN:VEVENT
DTSTART;TZID=America/Boise:20210924T103000
DTEND;TZID=America/Boise:20210924T113000
DTSTAMP:20210730T085353
CREATED:20210603T205916Z
LAST-MODIFIED:20210603T205917Z
UID:6595-1632479400-1632483000@dhr.idaho.gov
SUMMARY:Micro-Learning Module: Accountability for Remote Teams
DESCRIPTION:
URL:https://dhr.idaho.gov/event/micro-learning-module-accountability-for-remote-teams-2/
CATEGORIES:Micro-Learning Modules
END:VEVENT
BEGIN:VEVENT
DTSTART;TZID=America/Boise:20210929T140000
DTEND;TZID=America/Boise:20210929T150000
DTSTAMP:20210730T085353
CREATED:20210603T211627Z
LAST-MODIFIED:20210603T211628Z
UID:6634-1632924000-1632927600@dhr.idaho.gov
SUMMARY:Micro-Learning Module: Documentation
DESCRIPTION:
URL:https://dhr.idaho.gov/event/micro-learning-module-documentation-3/
CATEGORIES:Micro-Learning Modules
END:VEVENT
END:VCALENDAR