BEGIN:VCALENDAR
VERSION:2.0
PRODID:-//Idaho Division of Human Resources - ECPv6.15.16//NONSGML v1.0//EN
CALSCALE:GREGORIAN
METHOD:PUBLISH
X-WR-CALNAME:Idaho Division of Human Resources
X-ORIGINAL-URL:https://dhr.idaho.gov
X-WR-CALDESC:Events for Idaho Division of Human Resources
REFRESH-INTERVAL;VALUE=DURATION:PT1H
X-Robots-Tag:noindex
X-PUBLISHED-TTL:PT1H
BEGIN:VTIMEZONE
TZID:America/Boise
BEGIN:DAYLIGHT
TZOFFSETFROM:-0700
TZOFFSETTO:-0600
TZNAME:MDT
DTSTART:20200308T090000
END:DAYLIGHT
BEGIN:STANDARD
TZOFFSETFROM:-0600
TZOFFSETTO:-0700
TZNAME:MST
DTSTART:20201101T080000
END:STANDARD
BEGIN:DAYLIGHT
TZOFFSETFROM:-0700
TZOFFSETTO:-0600
TZNAME:MDT
DTSTART:20210314T090000
END:DAYLIGHT
BEGIN:STANDARD
TZOFFSETFROM:-0600
TZOFFSETTO:-0700
TZNAME:MST
DTSTART:20211107T080000
END:STANDARD
BEGIN:DAYLIGHT
TZOFFSETFROM:-0700
TZOFFSETTO:-0600
TZNAME:MDT
DTSTART:20220313T090000
END:DAYLIGHT
BEGIN:STANDARD
TZOFFSETFROM:-0600
TZOFFSETTO:-0700
TZNAME:MST
DTSTART:20221106T080000
END:STANDARD
END:VTIMEZONE
BEGIN:VEVENT
DTSTART;TZID=America/Boise:20211005T083000
DTEND;TZID=America/Boise:20211005T170000
DTSTAMP:20260424T162640
CREATED:20210603T194540Z
LAST-MODIFIED:20210603T194541Z
UID:6464-1633422600-1633453200@dhr.idaho.gov
SUMMARY:Supervisory Academy (Boise)
DESCRIPTION:
URL:https://dhr.idaho.gov/event/supervisory-academy-boise-2/
CATEGORIES:Supervisory Academy
END:VEVENT
BEGIN:VEVENT
DTSTART;TZID=America/Boise:20211013T083000
DTEND;TZID=America/Boise:20211013T170000
DTSTAMP:20260424T162640
CREATED:20210603T193729Z
LAST-MODIFIED:20210603T193729Z
UID:6410-1634113800-1634144400@dhr.idaho.gov
SUMMARY:Supervisory Academy (Online)
DESCRIPTION:
URL:https://dhr.idaho.gov/event/supervisory-academy-online-21/
CATEGORIES:Supervisory Academy
END:VEVENT
BEGIN:VEVENT
DTSTART;TZID=America/Boise:20211014T103000
DTEND;TZID=America/Boise:20211014T113000
DTSTAMP:20260424T162640
CREATED:20211012T221424Z
LAST-MODIFIED:20211012T221425Z
UID:7841-1634207400-1634211000@dhr.idaho.gov
SUMMARY:Micro-Learning Module: Motivation
DESCRIPTION:
URL:https://dhr.idaho.gov/event/micro-learning-module-motivation-4/
END:VEVENT
BEGIN:VEVENT
DTSTART;TZID=America/Boise:20211014T140000
DTEND;TZID=America/Boise:20211014T150000
DTSTAMP:20260424T162640
CREATED:20211012T205822Z
LAST-MODIFIED:20211012T205836Z
UID:7745-1634220000-1634223600@dhr.idaho.gov
SUMMARY:Micro-Learning Module: Accountability for Remote Teams
DESCRIPTION:
URL:https://dhr.idaho.gov/event/micro-learning-module-accountability-for-remote-teams-3/
END:VEVENT
BEGIN:VEVENT
DTSTART;TZID=America/Boise:20211018T090000
DTEND;TZID=America/Boise:20211018T100000
DTSTAMP:20260424T162640
CREATED:20211012T211214Z
LAST-MODIFIED:20211012T211215Z
UID:7763-1634547600-1634551200@dhr.idaho.gov
SUMMARY:Micro-Learning Module: Emotional Intelligence for Remote Teams
DESCRIPTION:
URL:https://dhr.idaho.gov/event/micro-learning-module-emotional-intelligence-for-remote-teams-4/
END:VEVENT
BEGIN:VEVENT
DTSTART;TZID=America/Boise:20211018T143000
DTEND;TZID=America/Boise:20211018T153000
DTSTAMP:20260424T162640
CREATED:20211012T213220Z
LAST-MODIFIED:20211012T213221Z
UID:7802-1634567400-1634571000@dhr.idaho.gov
SUMMARY:Micro-Learning Module: Coaching
DESCRIPTION:
URL:https://dhr.idaho.gov/event/micro-learning-module-coaching-5/
END:VEVENT
BEGIN:VEVENT
DTSTART;TZID=America/Boise:20211019T083000
DTEND;TZID=America/Boise:20211019T170000
DTSTAMP:20260424T162640
CREATED:20210603T194615Z
LAST-MODIFIED:20210603T194616Z
UID:6466-1634632200-1634662800@dhr.idaho.gov
SUMMARY:Supervisory Academy (Boise)
DESCRIPTION:
URL:https://dhr.idaho.gov/event/supervisory-academy-boise-3/
CATEGORIES:Supervisory Academy
END:VEVENT
BEGIN:VEVENT
DTSTART;TZID=America/Boise:20211020T083000
DTEND;TZID=America/Boise:20211020T170000
DTSTAMP:20260424T162640
CREATED:20210603T193744Z
LAST-MODIFIED:20210603T193745Z
UID:6412-1634718600-1634749200@dhr.idaho.gov
SUMMARY:Supervisory Academy (Online)
DESCRIPTION:
URL:https://dhr.idaho.gov/event/supervisory-academy-online-22/
CATEGORIES:Supervisory Academy
END:VEVENT
BEGIN:VEVENT
DTSTART;TZID=America/Boise:20211021T100000
DTEND;TZID=America/Boise:20211021T110000
DTSTAMP:20260424T162640
CREATED:20211012T222036Z
LAST-MODIFIED:20211012T222037Z
UID:7859-1634810400-1634814000@dhr.idaho.gov
SUMMARY:Micro-Learning Module: Documentation
DESCRIPTION:
URL:https://dhr.idaho.gov/event/micro-learning-module-documentation-4/
END:VEVENT
BEGIN:VEVENT
DTSTART;TZID=America/Boise:20211021T140000
DTEND;TZID=America/Boise:20211021T150000
DTSTAMP:20260424T162640
CREATED:20211012T223446Z
LAST-MODIFIED:20211012T223447Z
UID:7898-1634824800-1634828400@dhr.idaho.gov
SUMMARY:Micro-Learning Module: Performance Evaluations
DESCRIPTION:
URL:https://dhr.idaho.gov/event/micro-learning-module-performance-evaluations-3/
END:VEVENT
BEGIN:VEVENT
DTSTART;TZID=America/Boise:20211022T140000
DTEND;TZID=America/Boise:20211022T150000
DTSTAMP:20260424T162640
CREATED:20211012T212311Z
LAST-MODIFIED:20211012T212312Z
UID:7782-1634911200-1634914800@dhr.idaho.gov
SUMMARY:Micro-Learning Module: Setting Expectations
DESCRIPTION:
URL:https://dhr.idaho.gov/event/micro-learning-module-setting-expectations-4/
END:VEVENT
BEGIN:VEVENT
DTSTART;TZID=America/Boise:20211026T083000
DTEND;TZID=America/Boise:20211026T170000
DTSTAMP:20260424T162640
CREATED:20210603T194639Z
LAST-MODIFIED:20210603T194640Z
UID:6468-1635237000-1635267600@dhr.idaho.gov
SUMMARY:Supervisory Academy (Boise)
DESCRIPTION:
URL:https://dhr.idaho.gov/event/supervisory-academy-boise-4/
CATEGORIES:Supervisory Academy
END:VEVENT
BEGIN:VEVENT
DTSTART;TZID=America/Boise:20211027T083000
DTEND;TZID=America/Boise:20211027T170000
DTSTAMP:20260424T162640
CREATED:20210603T193820Z
LAST-MODIFIED:20210603T193820Z
UID:6414-1635323400-1635354000@dhr.idaho.gov
SUMMARY:Supervisory Academy (Online)
DESCRIPTION:
URL:https://dhr.idaho.gov/event/supervisory-academy-online-23/
CATEGORIES:Supervisory Academy
END:VEVENT
BEGIN:VEVENT
DTSTART;TZID=America/Boise:20211027T130000
DTEND;TZID=America/Boise:20211027T170000
DTSTAMP:20260424T162640
CREATED:20210603T203444Z
LAST-MODIFIED:20210603T203558Z
UID:6573-1635339600-1635354000@dhr.idaho.gov
SUMMARY:Verbal Intervention (Boise)
DESCRIPTION:
URL:https://dhr.idaho.gov/event/verbal-intervention-online-2/
CATEGORIES:Verbal Intervention
END:VEVENT
BEGIN:VEVENT
DTSTART;TZID=America/Boise:20211029T103000
DTEND;TZID=America/Boise:20211029T113000
DTSTAMP:20260424T162640
CREATED:20211012T222825Z
LAST-MODIFIED:20211012T222826Z
UID:7880-1635503400-1635507000@dhr.idaho.gov
SUMMARY:Micro-Learning Module: Progressive Discipline
DESCRIPTION:
URL:https://dhr.idaho.gov/event/micro-learning-module-progressive-discipline-3/
END:VEVENT
END:VCALENDAR