BEGIN:VCALENDAR
VERSION:2.0
PRODID:-//Idaho Division of Human Resources - ECPv6.15.16//NONSGML v1.0//EN
CALSCALE:GREGORIAN
METHOD:PUBLISH
X-WR-CALNAME:Idaho Division of Human Resources
X-ORIGINAL-URL:https://dhr.idaho.gov
X-WR-CALDESC:Events for Idaho Division of Human Resources
REFRESH-INTERVAL;VALUE=DURATION:PT1H
X-Robots-Tag:noindex
X-PUBLISHED-TTL:PT1H
BEGIN:VTIMEZONE
TZID:America/Boise
BEGIN:DAYLIGHT
TZOFFSETFROM:-0700
TZOFFSETTO:-0600
TZNAME:MDT
DTSTART:20210314T090000
END:DAYLIGHT
BEGIN:STANDARD
TZOFFSETFROM:-0600
TZOFFSETTO:-0700
TZNAME:MST
DTSTART:20211107T080000
END:STANDARD
BEGIN:DAYLIGHT
TZOFFSETFROM:-0700
TZOFFSETTO:-0600
TZNAME:MDT
DTSTART:20220313T090000
END:DAYLIGHT
BEGIN:STANDARD
TZOFFSETFROM:-0600
TZOFFSETTO:-0700
TZNAME:MST
DTSTART:20221106T080000
END:STANDARD
BEGIN:DAYLIGHT
TZOFFSETFROM:-0700
TZOFFSETTO:-0600
TZNAME:MDT
DTSTART:20230312T090000
END:DAYLIGHT
BEGIN:STANDARD
TZOFFSETFROM:-0600
TZOFFSETTO:-0700
TZNAME:MST
DTSTART:20231105T080000
END:STANDARD
END:VTIMEZONE
BEGIN:VEVENT
DTSTART;TZID=America/Boise:20220104T083000
DTEND;TZID=America/Boise:20220104T170000
DTSTAMP:20260425T113443
CREATED:20210603T195151Z
LAST-MODIFIED:20210603T195152Z
UID:6485-1641285000-1641315600@dhr.idaho.gov
SUMMARY:Supervisory Academy (Boise)
DESCRIPTION:
URL:https://dhr.idaho.gov/event/supervisory-academy-boise-11/
CATEGORIES:Supervisory Academy
END:VEVENT
BEGIN:VEVENT
DTSTART;TZID=America/Boise:20220105T083000
DTEND;TZID=America/Boise:20220105T170000
DTSTAMP:20260425T113443
CREATED:20210603T194021Z
LAST-MODIFIED:20210603T194022Z
UID:6428-1641371400-1641402000@dhr.idaho.gov
SUMMARY:Supervisory Academy (Online)
DESCRIPTION:
URL:https://dhr.idaho.gov/event/supervisory-academy-online-30/
CATEGORIES:Supervisory Academy
END:VEVENT
BEGIN:VEVENT
DTSTART;TZID=America/Boise:20220106T140000
DTEND;TZID=America/Boise:20220106T150000
DTSTAMP:20260425T113443
CREATED:20211012T223057Z
LAST-MODIFIED:20211012T223058Z
UID:7886-1641477600-1641481200@dhr.idaho.gov
SUMMARY:Micro-Learning Module: Progressive Discipline
DESCRIPTION:
URL:https://dhr.idaho.gov/event/micro-learning-module-progressive-discipline-7/
END:VEVENT
BEGIN:VEVENT
DTSTART;TZID=America/Boise:20220107T103000
DTEND;TZID=America/Boise:20220107T113000
DTSTAMP:20260425T113443
CREATED:20211012T223630Z
LAST-MODIFIED:20211012T223631Z
UID:7904-1641551400-1641555000@dhr.idaho.gov
SUMMARY:Micro-Learning Module: Performance Evaluations
DESCRIPTION:
URL:https://dhr.idaho.gov/event/micro-learning-module-performance-evaluations-7/
END:VEVENT
BEGIN:VEVENT
DTSTART;TZID=America/Boise:20220111T083000
DTEND;TZID=America/Boise:20220111T170000
DTSTAMP:20260425T113443
CREATED:20210603T195230Z
LAST-MODIFIED:20210603T195231Z
UID:6487-1641889800-1641920400@dhr.idaho.gov
SUMMARY:Supervisory Academy (Boise)
DESCRIPTION:
URL:https://dhr.idaho.gov/event/supervisory-academy-boise-13/
CATEGORIES:Supervisory Academy
END:VEVENT
BEGIN:VEVENT
DTSTART;TZID=America/Boise:20220111T090000
DTEND;TZID=America/Boise:20220111T100000
DTSTAMP:20260425T113443
CREATED:20211012T213427Z
LAST-MODIFIED:20211012T213428Z
UID:7808-1641891600-1641895200@dhr.idaho.gov
SUMMARY:Micro-Learning Module: Coaching
DESCRIPTION:
URL:https://dhr.idaho.gov/event/micro-learning-module-coaching-8/
END:VEVENT
BEGIN:VEVENT
DTSTART;TZID=America/Boise:20220112T083000
DTEND;TZID=America/Boise:20220112T170000
DTSTAMP:20260425T113443
CREATED:20210603T194043Z
LAST-MODIFIED:20210603T194043Z
UID:6430-1641976200-1642006800@dhr.idaho.gov
SUMMARY:Supervisory Academy (Online)
DESCRIPTION:
URL:https://dhr.idaho.gov/event/supervisory-academy-online-31/
CATEGORIES:Supervisory Academy
END:VEVENT
BEGIN:VEVENT
DTSTART;TZID=America/Boise:20220112T103000
DTEND;TZID=America/Boise:20220112T113000
DTSTAMP:20260425T113443
CREATED:20211012T215814Z
LAST-MODIFIED:20211012T215815Z
UID:7828-1641983400-1641987000@dhr.idaho.gov
SUMMARY:Micro-Learning Module: Providing Feedback
DESCRIPTION:
URL:https://dhr.idaho.gov/event/micro-learning-module-providing-feedback-8/
END:VEVENT
BEGIN:VEVENT
DTSTART;TZID=America/Boise:20220113T110000
DTEND;TZID=America/Boise:20220113T120000
DTSTAMP:20260425T113443
CREATED:20211012T205237Z
LAST-MODIFIED:20211019T164435Z
UID:7732-1642071600-1642075200@dhr.idaho.gov
SUMMARY:Micro-Learning Module: Communication
DESCRIPTION:
URL:https://dhr.idaho.gov/event/micro-learning-module-communication-for-remote-teams-6/
END:VEVENT
BEGIN:VEVENT
DTSTART;TZID=America/Boise:20220114T093000
DTEND;TZID=America/Boise:20220114T103000
DTSTAMP:20260425T113443
CREATED:20211012T211436Z
LAST-MODIFIED:20211019T164443Z
UID:7769-1642152600-1642156200@dhr.idaho.gov
SUMMARY:Micro-Learning Module: Emotional Intelligence
DESCRIPTION:
URL:https://dhr.idaho.gov/event/micro-learning-module-emotional-intelligence-for-remote-teams-8/
END:VEVENT
BEGIN:VEVENT
DTSTART;TZID=America/Boise:20220114T110000
DTEND;TZID=America/Boise:20220114T120000
DTSTAMP:20260425T113443
CREATED:20211012T210106Z
LAST-MODIFIED:20211019T164448Z
UID:7751-1642158000-1642161600@dhr.idaho.gov
SUMMARY:Micro-Learning Module: Accountability
DESCRIPTION:
URL:https://dhr.idaho.gov/event/micro-learning-module-accountability-for-remote-teams-7/
END:VEVENT
BEGIN:VEVENT
DTSTART;TZID=America/Boise:20220118T150000
DTEND;TZID=America/Boise:20220118T160000
DTSTAMP:20260425T113443
CREATED:20211012T212514Z
LAST-MODIFIED:20211012T212515Z
UID:7788-1642518000-1642521600@dhr.idaho.gov
SUMMARY:Micro-Learning Module: Setting Expectations
DESCRIPTION:
URL:https://dhr.idaho.gov/event/micro-learning-module-setting-expectations-8/
END:VEVENT
BEGIN:VEVENT
DTSTART;TZID=America/Boise:20220119T083000
DTEND;TZID=America/Boise:20220119T170000
DTSTAMP:20260425T113443
CREATED:20210603T194055Z
LAST-MODIFIED:20210603T194055Z
UID:6432-1642581000-1642611600@dhr.idaho.gov
SUMMARY:Supervisory Academy (Online)
DESCRIPTION:
URL:https://dhr.idaho.gov/event/supervisory-academy-online-32/
CATEGORIES:Supervisory Academy
END:VEVENT
BEGIN:VEVENT
DTSTART;TZID=America/Boise:20220120T153000
DTEND;TZID=America/Boise:20220120T163000
DTSTAMP:20260425T113443
CREATED:20211022T163141Z
LAST-MODIFIED:20211022T163142Z
UID:8019-1642692600-1642696200@dhr.idaho.gov
SUMMARY:Micro-Learning Module: Leaders In Motion
DESCRIPTION:
URL:https://dhr.idaho.gov/event/micro-learning-module-leaders-in-motion-2/
END:VEVENT
BEGIN:VEVENT
DTSTART;TZID=America/Boise:20220125T083000
DTEND;TZID=America/Boise:20220125T170000
DTSTAMP:20260425T113443
CREATED:20210603T195256Z
LAST-MODIFIED:20210603T195257Z
UID:6489-1643099400-1643130000@dhr.idaho.gov
SUMMARY:Supervisory Academy (Boise)
DESCRIPTION:
URL:https://dhr.idaho.gov/event/supervisory-academy-boise-14/
CATEGORIES:Supervisory Academy
END:VEVENT
BEGIN:VEVENT
DTSTART;TZID=America/Boise:20220126T083000
DTEND;TZID=America/Boise:20220126T170000
DTSTAMP:20260425T113443
CREATED:20210603T200815Z
LAST-MODIFIED:20210603T200816Z
UID:6531-1643185800-1643216400@dhr.idaho.gov
SUMMARY:Crucial Conversations (Boise)
DESCRIPTION:
URL:https://dhr.idaho.gov/event/crucial-conversations-boise-3/
CATEGORIES:Crucial Conversations
END:VEVENT
BEGIN:VEVENT
DTSTART;TZID=America/Boise:20220126T103000
DTEND;TZID=America/Boise:20220126T113000
DTSTAMP:20260425T113443
CREATED:20211012T222233Z
LAST-MODIFIED:20211012T222234Z
UID:7865-1643193000-1643196600@dhr.idaho.gov
SUMMARY:Micro-Learning Module: Documentation
DESCRIPTION:
URL:https://dhr.idaho.gov/event/micro-learning-module-documentation-8/
END:VEVENT
BEGIN:VEVENT
DTSTART;TZID=America/Boise:20220127T083000
DTEND;TZID=America/Boise:20220127T170000
DTSTAMP:20260425T113443
CREATED:20210603T200923Z
LAST-MODIFIED:20210603T200923Z
UID:6533-1643272200-1643302800@dhr.idaho.gov
SUMMARY:Crucial Conversations (Boise)
DESCRIPTION:
URL:https://dhr.idaho.gov/event/crucial-conversations-boise-4/
CATEGORIES:Crucial Conversations
END:VEVENT
BEGIN:VEVENT
DTSTART;TZID=America/Boise:20220127T140000
DTEND;TZID=America/Boise:20220127T150000
DTSTAMP:20260425T113443
CREATED:20211012T221618Z
LAST-MODIFIED:20211012T221619Z
UID:7847-1643292000-1643295600@dhr.idaho.gov
SUMMARY:Micro-Learning Module: Motivation
DESCRIPTION:
URL:https://dhr.idaho.gov/event/micro-learning-module-motivation-8/
END:VEVENT
END:VCALENDAR